BEGIN:VCALENDAR
VERSION:2.0
PRODID:-//Teton Raptor Center - ECPv6.15.17.1//NONSGML v1.0//EN
CALSCALE:GREGORIAN
METHOD:PUBLISH
X-WR-CALNAME:Teton Raptor Center
X-ORIGINAL-URL:https://tetonraptorcenter.org
X-WR-CALDESC:Events for Teton Raptor Center
REFRESH-INTERVAL;VALUE=DURATION:PT1H
X-Robots-Tag:noindex
X-PUBLISHED-TTL:PT1H
BEGIN:VTIMEZONE
TZID:America/Denver
BEGIN:DAYLIGHT
TZOFFSETFROM:-0700
TZOFFSETTO:-0600
TZNAME:MDT
DTSTART:20250309T090000
END:DAYLIGHT
BEGIN:STANDARD
TZOFFSETFROM:-0600
TZOFFSETTO:-0700
TZNAME:MST
DTSTART:20251102T080000
END:STANDARD
BEGIN:DAYLIGHT
TZOFFSETFROM:-0700
TZOFFSETTO:-0600
TZNAME:MDT
DTSTART:20260308T090000
END:DAYLIGHT
BEGIN:STANDARD
TZOFFSETFROM:-0600
TZOFFSETTO:-0700
TZNAME:MST
DTSTART:20261101T080000
END:STANDARD
BEGIN:DAYLIGHT
TZOFFSETFROM:-0700
TZOFFSETTO:-0600
TZNAME:MDT
DTSTART:20270314T090000
END:DAYLIGHT
BEGIN:STANDARD
TZOFFSETFROM:-0600
TZOFFSETTO:-0700
TZNAME:MST
DTSTART:20271107T080000
END:STANDARD
END:VTIMEZONE
BEGIN:VEVENT
DTSTART;TZID=America/Denver:20260605T110000
DTEND;TZID=America/Denver:20260605T120000
DTSTAMP:20260421T225653
CREATED:20251107T204028Z
LAST-MODIFIED:20260417T223703Z
UID:10001384-1780657200-1780660800@tetonraptorcenter.org
SUMMARY:Raptors of Wyoming: Habitats and Homes
DESCRIPTION:Join us for an inspiring 1- hour program featuring three to four live raptor ambassadors. Together\, we’ll journey through Wyoming’s diverse habitats and uncover the stories of nearly 30 raptor species\, offering a deeper appreciation for the landscapes they call home. \nJune 5\, 2026 through October 30\, 2026:\n\nFridays at 11:00 am\n\nBook Now
URL:https://tetonraptorcenter.org/event/raptors-of-wyoming-habitats-and-homes-2/2026-06-05/
LOCATION:Teton Raptor Center\, 5450 WY-Highway 22\, Wilson\, WY\, 83014
ATTACH;FMTTYPE=image/jpeg:https://tetonraptorcenter.org/wp-content/uploads/2025/03/Hardman-Summer-2018-Credit-Bob-Bailey_ADAPTATIONS-2-1.jpg
END:VEVENT
BEGIN:VEVENT
DTSTART;TZID=America/Denver:20260612T110000
DTEND;TZID=America/Denver:20260612T120000
DTSTAMP:20260421T225653
CREATED:20251107T204028Z
LAST-MODIFIED:20260417T223703Z
UID:10001385-1781262000-1781265600@tetonraptorcenter.org
SUMMARY:Raptors of Wyoming: Habitats and Homes
DESCRIPTION:Join us for an inspiring 1- hour program featuring three to four live raptor ambassadors. Together\, we’ll journey through Wyoming’s diverse habitats and uncover the stories of nearly 30 raptor species\, offering a deeper appreciation for the landscapes they call home. \nJune 5\, 2026 through October 30\, 2026:\n\nFridays at 11:00 am\n\nBook Now
URL:https://tetonraptorcenter.org/event/raptors-of-wyoming-habitats-and-homes-2/2026-06-12/
LOCATION:Teton Raptor Center\, 5450 WY-Highway 22\, Wilson\, WY\, 83014
ATTACH;FMTTYPE=image/jpeg:https://tetonraptorcenter.org/wp-content/uploads/2025/03/Hardman-Summer-2018-Credit-Bob-Bailey_ADAPTATIONS-2-1.jpg
END:VEVENT
BEGIN:VEVENT
DTSTART;TZID=America/Denver:20260619T110000
DTEND;TZID=America/Denver:20260619T120000
DTSTAMP:20260421T225653
CREATED:20251107T204028Z
LAST-MODIFIED:20260417T223703Z
UID:10001386-1781866800-1781870400@tetonraptorcenter.org
SUMMARY:Raptors of Wyoming: Habitats and Homes
DESCRIPTION:Join us for an inspiring 1- hour program featuring three to four live raptor ambassadors. Together\, we’ll journey through Wyoming’s diverse habitats and uncover the stories of nearly 30 raptor species\, offering a deeper appreciation for the landscapes they call home. \nJune 5\, 2026 through October 30\, 2026:\n\nFridays at 11:00 am\n\nBook Now
URL:https://tetonraptorcenter.org/event/raptors-of-wyoming-habitats-and-homes-2/2026-06-19/
LOCATION:Teton Raptor Center\, 5450 WY-Highway 22\, Wilson\, WY\, 83014
ATTACH;FMTTYPE=image/jpeg:https://tetonraptorcenter.org/wp-content/uploads/2025/03/Hardman-Summer-2018-Credit-Bob-Bailey_ADAPTATIONS-2-1.jpg
END:VEVENT
BEGIN:VEVENT
DTSTART;TZID=America/Denver:20260626T110000
DTEND;TZID=America/Denver:20260626T120000
DTSTAMP:20260421T225653
CREATED:20251107T204028Z
LAST-MODIFIED:20260417T223703Z
UID:10001387-1782471600-1782475200@tetonraptorcenter.org
SUMMARY:Raptors of Wyoming: Habitats and Homes
DESCRIPTION:Join us for an inspiring 1- hour program featuring three to four live raptor ambassadors. Together\, we’ll journey through Wyoming’s diverse habitats and uncover the stories of nearly 30 raptor species\, offering a deeper appreciation for the landscapes they call home. \nJune 5\, 2026 through October 30\, 2026:\n\nFridays at 11:00 am\n\nBook Now
URL:https://tetonraptorcenter.org/event/raptors-of-wyoming-habitats-and-homes-2/2026-06-26/
LOCATION:Teton Raptor Center\, 5450 WY-Highway 22\, Wilson\, WY\, 83014
ATTACH;FMTTYPE=image/jpeg:https://tetonraptorcenter.org/wp-content/uploads/2025/03/Hardman-Summer-2018-Credit-Bob-Bailey_ADAPTATIONS-2-1.jpg
END:VEVENT
BEGIN:VEVENT
DTSTART;TZID=America/Denver:20260703T110000
DTEND;TZID=America/Denver:20260703T120000
DTSTAMP:20260421T225653
CREATED:20251107T204028Z
LAST-MODIFIED:20260417T223703Z
UID:10001388-1783076400-1783080000@tetonraptorcenter.org
SUMMARY:Raptors of Wyoming: Habitats and Homes
DESCRIPTION:Join us for an inspiring 1- hour program featuring three to four live raptor ambassadors. Together\, we’ll journey through Wyoming’s diverse habitats and uncover the stories of nearly 30 raptor species\, offering a deeper appreciation for the landscapes they call home. \nJune 5\, 2026 through October 30\, 2026:\n\nFridays at 11:00 am\n\nBook Now
URL:https://tetonraptorcenter.org/event/raptors-of-wyoming-habitats-and-homes-2/2026-07-03/
LOCATION:Teton Raptor Center\, 5450 WY-Highway 22\, Wilson\, WY\, 83014
ATTACH;FMTTYPE=image/jpeg:https://tetonraptorcenter.org/wp-content/uploads/2025/03/Hardman-Summer-2018-Credit-Bob-Bailey_ADAPTATIONS-2-1.jpg
END:VEVENT
BEGIN:VEVENT
DTSTART;TZID=America/Denver:20260710T110000
DTEND;TZID=America/Denver:20260710T120000
DTSTAMP:20260421T225653
CREATED:20251107T204028Z
LAST-MODIFIED:20260417T223703Z
UID:10001389-1783681200-1783684800@tetonraptorcenter.org
SUMMARY:Raptors of Wyoming: Habitats and Homes
DESCRIPTION:Join us for an inspiring 1- hour program featuring three to four live raptor ambassadors. Together\, we’ll journey through Wyoming’s diverse habitats and uncover the stories of nearly 30 raptor species\, offering a deeper appreciation for the landscapes they call home. \nJune 5\, 2026 through October 30\, 2026:\n\nFridays at 11:00 am\n\nBook Now
URL:https://tetonraptorcenter.org/event/raptors-of-wyoming-habitats-and-homes-2/2026-07-10/
LOCATION:Teton Raptor Center\, 5450 WY-Highway 22\, Wilson\, WY\, 83014
ATTACH;FMTTYPE=image/jpeg:https://tetonraptorcenter.org/wp-content/uploads/2025/03/Hardman-Summer-2018-Credit-Bob-Bailey_ADAPTATIONS-2-1.jpg
END:VEVENT
BEGIN:VEVENT
DTSTART;TZID=America/Denver:20260717T110000
DTEND;TZID=America/Denver:20260717T120000
DTSTAMP:20260421T225653
CREATED:20251107T204028Z
LAST-MODIFIED:20260417T223703Z
UID:10001390-1784286000-1784289600@tetonraptorcenter.org
SUMMARY:Raptors of Wyoming: Habitats and Homes
DESCRIPTION:Join us for an inspiring 1- hour program featuring three to four live raptor ambassadors. Together\, we’ll journey through Wyoming’s diverse habitats and uncover the stories of nearly 30 raptor species\, offering a deeper appreciation for the landscapes they call home. \nJune 5\, 2026 through October 30\, 2026:\n\nFridays at 11:00 am\n\nBook Now
URL:https://tetonraptorcenter.org/event/raptors-of-wyoming-habitats-and-homes-2/2026-07-17/
LOCATION:Teton Raptor Center\, 5450 WY-Highway 22\, Wilson\, WY\, 83014
ATTACH;FMTTYPE=image/jpeg:https://tetonraptorcenter.org/wp-content/uploads/2025/03/Hardman-Summer-2018-Credit-Bob-Bailey_ADAPTATIONS-2-1.jpg
END:VEVENT
BEGIN:VEVENT
DTSTART;TZID=America/Denver:20260724T110000
DTEND;TZID=America/Denver:20260724T120000
DTSTAMP:20260421T225653
CREATED:20251107T204028Z
LAST-MODIFIED:20260417T223703Z
UID:10001391-1784890800-1784894400@tetonraptorcenter.org
SUMMARY:Raptors of Wyoming: Habitats and Homes
DESCRIPTION:Join us for an inspiring 1- hour program featuring three to four live raptor ambassadors. Together\, we’ll journey through Wyoming’s diverse habitats and uncover the stories of nearly 30 raptor species\, offering a deeper appreciation for the landscapes they call home. \nJune 5\, 2026 through October 30\, 2026:\n\nFridays at 11:00 am\n\nBook Now
URL:https://tetonraptorcenter.org/event/raptors-of-wyoming-habitats-and-homes-2/2026-07-24/
LOCATION:Teton Raptor Center\, 5450 WY-Highway 22\, Wilson\, WY\, 83014
ATTACH;FMTTYPE=image/jpeg:https://tetonraptorcenter.org/wp-content/uploads/2025/03/Hardman-Summer-2018-Credit-Bob-Bailey_ADAPTATIONS-2-1.jpg
END:VEVENT
BEGIN:VEVENT
DTSTART;TZID=America/Denver:20260731T110000
DTEND;TZID=America/Denver:20260731T120000
DTSTAMP:20260421T225653
CREATED:20251107T204028Z
LAST-MODIFIED:20260417T223703Z
UID:10001392-1785495600-1785499200@tetonraptorcenter.org
SUMMARY:Raptors of Wyoming: Habitats and Homes
DESCRIPTION:Join us for an inspiring 1- hour program featuring three to four live raptor ambassadors. Together\, we’ll journey through Wyoming’s diverse habitats and uncover the stories of nearly 30 raptor species\, offering a deeper appreciation for the landscapes they call home. \nJune 5\, 2026 through October 30\, 2026:\n\nFridays at 11:00 am\n\nBook Now
URL:https://tetonraptorcenter.org/event/raptors-of-wyoming-habitats-and-homes-2/2026-07-31/
LOCATION:Teton Raptor Center\, 5450 WY-Highway 22\, Wilson\, WY\, 83014
ATTACH;FMTTYPE=image/jpeg:https://tetonraptorcenter.org/wp-content/uploads/2025/03/Hardman-Summer-2018-Credit-Bob-Bailey_ADAPTATIONS-2-1.jpg
END:VEVENT
BEGIN:VEVENT
DTSTART;TZID=America/Denver:20260807T110000
DTEND;TZID=America/Denver:20260807T120000
DTSTAMP:20260421T225653
CREATED:20251107T204028Z
LAST-MODIFIED:20260417T223703Z
UID:10001393-1786100400-1786104000@tetonraptorcenter.org
SUMMARY:Raptors of Wyoming: Habitats and Homes
DESCRIPTION:Join us for an inspiring 1- hour program featuring three to four live raptor ambassadors. Together\, we’ll journey through Wyoming’s diverse habitats and uncover the stories of nearly 30 raptor species\, offering a deeper appreciation for the landscapes they call home. \nJune 5\, 2026 through October 30\, 2026:\n\nFridays at 11:00 am\n\nBook Now
URL:https://tetonraptorcenter.org/event/raptors-of-wyoming-habitats-and-homes-2/2026-08-07/
LOCATION:Teton Raptor Center\, 5450 WY-Highway 22\, Wilson\, WY\, 83014
ATTACH;FMTTYPE=image/jpeg:https://tetonraptorcenter.org/wp-content/uploads/2025/03/Hardman-Summer-2018-Credit-Bob-Bailey_ADAPTATIONS-2-1.jpg
END:VEVENT
BEGIN:VEVENT
DTSTART;TZID=America/Denver:20260814T110000
DTEND;TZID=America/Denver:20260814T120000
DTSTAMP:20260421T225653
CREATED:20251107T204028Z
LAST-MODIFIED:20260417T223703Z
UID:10001394-1786705200-1786708800@tetonraptorcenter.org
SUMMARY:Raptors of Wyoming: Habitats and Homes
DESCRIPTION:Join us for an inspiring 1- hour program featuring three to four live raptor ambassadors. Together\, we’ll journey through Wyoming’s diverse habitats and uncover the stories of nearly 30 raptor species\, offering a deeper appreciation for the landscapes they call home. \nJune 5\, 2026 through October 30\, 2026:\n\nFridays at 11:00 am\n\nBook Now
URL:https://tetonraptorcenter.org/event/raptors-of-wyoming-habitats-and-homes-2/2026-08-14/
LOCATION:Teton Raptor Center\, 5450 WY-Highway 22\, Wilson\, WY\, 83014
ATTACH;FMTTYPE=image/jpeg:https://tetonraptorcenter.org/wp-content/uploads/2025/03/Hardman-Summer-2018-Credit-Bob-Bailey_ADAPTATIONS-2-1.jpg
END:VEVENT
BEGIN:VEVENT
DTSTART;TZID=America/Denver:20260821T110000
DTEND;TZID=America/Denver:20260821T120000
DTSTAMP:20260421T225653
CREATED:20251107T204028Z
LAST-MODIFIED:20260417T223703Z
UID:10001395-1787310000-1787313600@tetonraptorcenter.org
SUMMARY:Raptors of Wyoming: Habitats and Homes
DESCRIPTION:Join us for an inspiring 1- hour program featuring three to four live raptor ambassadors. Together\, we’ll journey through Wyoming’s diverse habitats and uncover the stories of nearly 30 raptor species\, offering a deeper appreciation for the landscapes they call home. \nJune 5\, 2026 through October 30\, 2026:\n\nFridays at 11:00 am\n\nBook Now
URL:https://tetonraptorcenter.org/event/raptors-of-wyoming-habitats-and-homes-2/2026-08-21/
LOCATION:Teton Raptor Center\, 5450 WY-Highway 22\, Wilson\, WY\, 83014
ATTACH;FMTTYPE=image/jpeg:https://tetonraptorcenter.org/wp-content/uploads/2025/03/Hardman-Summer-2018-Credit-Bob-Bailey_ADAPTATIONS-2-1.jpg
END:VEVENT
BEGIN:VEVENT
DTSTART;TZID=America/Denver:20260828T110000
DTEND;TZID=America/Denver:20260828T120000
DTSTAMP:20260421T225653
CREATED:20251107T204028Z
LAST-MODIFIED:20260417T223703Z
UID:10001396-1787914800-1787918400@tetonraptorcenter.org
SUMMARY:Raptors of Wyoming: Habitats and Homes
DESCRIPTION:Join us for an inspiring 1- hour program featuring three to four live raptor ambassadors. Together\, we’ll journey through Wyoming’s diverse habitats and uncover the stories of nearly 30 raptor species\, offering a deeper appreciation for the landscapes they call home. \nJune 5\, 2026 through October 30\, 2026:\n\nFridays at 11:00 am\n\nBook Now
URL:https://tetonraptorcenter.org/event/raptors-of-wyoming-habitats-and-homes-2/2026-08-28/
LOCATION:Teton Raptor Center\, 5450 WY-Highway 22\, Wilson\, WY\, 83014
ATTACH;FMTTYPE=image/jpeg:https://tetonraptorcenter.org/wp-content/uploads/2025/03/Hardman-Summer-2018-Credit-Bob-Bailey_ADAPTATIONS-2-1.jpg
END:VEVENT
BEGIN:VEVENT
DTSTART;TZID=America/Denver:20260904T110000
DTEND;TZID=America/Denver:20260904T120000
DTSTAMP:20260421T225653
CREATED:20251107T204028Z
LAST-MODIFIED:20260417T223703Z
UID:10001397-1788519600-1788523200@tetonraptorcenter.org
SUMMARY:Raptors of Wyoming: Habitats and Homes
DESCRIPTION:Join us for an inspiring 1- hour program featuring three to four live raptor ambassadors. Together\, we’ll journey through Wyoming’s diverse habitats and uncover the stories of nearly 30 raptor species\, offering a deeper appreciation for the landscapes they call home. \nJune 5\, 2026 through October 30\, 2026:\n\nFridays at 11:00 am\n\nBook Now
URL:https://tetonraptorcenter.org/event/raptors-of-wyoming-habitats-and-homes-2/2026-09-04/
LOCATION:Teton Raptor Center\, 5450 WY-Highway 22\, Wilson\, WY\, 83014
ATTACH;FMTTYPE=image/jpeg:https://tetonraptorcenter.org/wp-content/uploads/2025/03/Hardman-Summer-2018-Credit-Bob-Bailey_ADAPTATIONS-2-1.jpg
END:VEVENT
BEGIN:VEVENT
DTSTART;TZID=America/Denver:20260911T110000
DTEND;TZID=America/Denver:20260911T120000
DTSTAMP:20260421T225653
CREATED:20251107T204028Z
LAST-MODIFIED:20260417T223703Z
UID:10001398-1789124400-1789128000@tetonraptorcenter.org
SUMMARY:Raptors of Wyoming: Habitats and Homes
DESCRIPTION:Join us for an inspiring 1- hour program featuring three to four live raptor ambassadors. Together\, we’ll journey through Wyoming’s diverse habitats and uncover the stories of nearly 30 raptor species\, offering a deeper appreciation for the landscapes they call home. \nJune 5\, 2026 through October 30\, 2026:\n\nFridays at 11:00 am\n\nBook Now
URL:https://tetonraptorcenter.org/event/raptors-of-wyoming-habitats-and-homes-2/2026-09-11/
LOCATION:Teton Raptor Center\, 5450 WY-Highway 22\, Wilson\, WY\, 83014
ATTACH;FMTTYPE=image/jpeg:https://tetonraptorcenter.org/wp-content/uploads/2025/03/Hardman-Summer-2018-Credit-Bob-Bailey_ADAPTATIONS-2-1.jpg
END:VEVENT
BEGIN:VEVENT
DTSTART;TZID=America/Denver:20260918T110000
DTEND;TZID=America/Denver:20260918T120000
DTSTAMP:20260421T225653
CREATED:20251107T204028Z
LAST-MODIFIED:20260417T223703Z
UID:10001399-1789729200-1789732800@tetonraptorcenter.org
SUMMARY:Raptors of Wyoming: Habitats and Homes
DESCRIPTION:Join us for an inspiring 1- hour program featuring three to four live raptor ambassadors. Together\, we’ll journey through Wyoming’s diverse habitats and uncover the stories of nearly 30 raptor species\, offering a deeper appreciation for the landscapes they call home. \nJune 5\, 2026 through October 30\, 2026:\n\nFridays at 11:00 am\n\nBook Now
URL:https://tetonraptorcenter.org/event/raptors-of-wyoming-habitats-and-homes-2/2026-09-18/
LOCATION:Teton Raptor Center\, 5450 WY-Highway 22\, Wilson\, WY\, 83014
ATTACH;FMTTYPE=image/jpeg:https://tetonraptorcenter.org/wp-content/uploads/2025/03/Hardman-Summer-2018-Credit-Bob-Bailey_ADAPTATIONS-2-1.jpg
END:VEVENT
BEGIN:VEVENT
DTSTART;TZID=America/Denver:20260925T110000
DTEND;TZID=America/Denver:20260925T120000
DTSTAMP:20260421T225653
CREATED:20251107T204028Z
LAST-MODIFIED:20260417T223703Z
UID:10001400-1790334000-1790337600@tetonraptorcenter.org
SUMMARY:Raptors of Wyoming: Habitats and Homes
DESCRIPTION:Join us for an inspiring 1- hour program featuring three to four live raptor ambassadors. Together\, we’ll journey through Wyoming’s diverse habitats and uncover the stories of nearly 30 raptor species\, offering a deeper appreciation for the landscapes they call home. \nJune 5\, 2026 through October 30\, 2026:\n\nFridays at 11:00 am\n\nBook Now
URL:https://tetonraptorcenter.org/event/raptors-of-wyoming-habitats-and-homes-2/2026-09-25/
LOCATION:Teton Raptor Center\, 5450 WY-Highway 22\, Wilson\, WY\, 83014
ATTACH;FMTTYPE=image/jpeg:https://tetonraptorcenter.org/wp-content/uploads/2025/03/Hardman-Summer-2018-Credit-Bob-Bailey_ADAPTATIONS-2-1.jpg
END:VEVENT
BEGIN:VEVENT
DTSTART;TZID=America/Denver:20261002T110000
DTEND;TZID=America/Denver:20261002T120000
DTSTAMP:20260421T225653
CREATED:20251107T204028Z
LAST-MODIFIED:20260417T223703Z
UID:10001401-1790938800-1790942400@tetonraptorcenter.org
SUMMARY:Raptors of Wyoming: Habitats and Homes
DESCRIPTION:Join us for an inspiring 1- hour program featuring three to four live raptor ambassadors. Together\, we’ll journey through Wyoming’s diverse habitats and uncover the stories of nearly 30 raptor species\, offering a deeper appreciation for the landscapes they call home. \nJune 5\, 2026 through October 30\, 2026:\n\nFridays at 11:00 am\n\nBook Now
URL:https://tetonraptorcenter.org/event/raptors-of-wyoming-habitats-and-homes-2/2026-10-02/
LOCATION:Teton Raptor Center\, 5450 WY-Highway 22\, Wilson\, WY\, 83014
ATTACH;FMTTYPE=image/jpeg:https://tetonraptorcenter.org/wp-content/uploads/2025/03/Hardman-Summer-2018-Credit-Bob-Bailey_ADAPTATIONS-2-1.jpg
END:VEVENT
BEGIN:VEVENT
DTSTART;TZID=America/Denver:20261009T110000
DTEND;TZID=America/Denver:20261009T120000
DTSTAMP:20260421T225653
CREATED:20251107T204028Z
LAST-MODIFIED:20260417T223703Z
UID:10001402-1791543600-1791547200@tetonraptorcenter.org
SUMMARY:Raptors of Wyoming: Habitats and Homes
DESCRIPTION:Join us for an inspiring 1- hour program featuring three to four live raptor ambassadors. Together\, we’ll journey through Wyoming’s diverse habitats and uncover the stories of nearly 30 raptor species\, offering a deeper appreciation for the landscapes they call home. \nJune 5\, 2026 through October 30\, 2026:\n\nFridays at 11:00 am\n\nBook Now
URL:https://tetonraptorcenter.org/event/raptors-of-wyoming-habitats-and-homes-2/2026-10-09/
LOCATION:Teton Raptor Center\, 5450 WY-Highway 22\, Wilson\, WY\, 83014
ATTACH;FMTTYPE=image/jpeg:https://tetonraptorcenter.org/wp-content/uploads/2025/03/Hardman-Summer-2018-Credit-Bob-Bailey_ADAPTATIONS-2-1.jpg
END:VEVENT
BEGIN:VEVENT
DTSTART;TZID=America/Denver:20261016T110000
DTEND;TZID=America/Denver:20261016T120000
DTSTAMP:20260421T225653
CREATED:20251107T204028Z
LAST-MODIFIED:20260417T223703Z
UID:10001403-1792148400-1792152000@tetonraptorcenter.org
SUMMARY:Raptors of Wyoming: Habitats and Homes
DESCRIPTION:Join us for an inspiring 1- hour program featuring three to four live raptor ambassadors. Together\, we’ll journey through Wyoming’s diverse habitats and uncover the stories of nearly 30 raptor species\, offering a deeper appreciation for the landscapes they call home. \nJune 5\, 2026 through October 30\, 2026:\n\nFridays at 11:00 am\n\nBook Now
URL:https://tetonraptorcenter.org/event/raptors-of-wyoming-habitats-and-homes-2/2026-10-16/
LOCATION:Teton Raptor Center\, 5450 WY-Highway 22\, Wilson\, WY\, 83014
ATTACH;FMTTYPE=image/jpeg:https://tetonraptorcenter.org/wp-content/uploads/2025/03/Hardman-Summer-2018-Credit-Bob-Bailey_ADAPTATIONS-2-1.jpg
END:VEVENT
BEGIN:VEVENT
DTSTART;TZID=America/Denver:20261023T110000
DTEND;TZID=America/Denver:20261023T120000
DTSTAMP:20260421T225653
CREATED:20251107T204028Z
LAST-MODIFIED:20260417T223703Z
UID:10001404-1792753200-1792756800@tetonraptorcenter.org
SUMMARY:Raptors of Wyoming: Habitats and Homes
DESCRIPTION:Join us for an inspiring 1- hour program featuring three to four live raptor ambassadors. Together\, we’ll journey through Wyoming’s diverse habitats and uncover the stories of nearly 30 raptor species\, offering a deeper appreciation for the landscapes they call home. \nJune 5\, 2026 through October 30\, 2026:\n\nFridays at 11:00 am\n\nBook Now
URL:https://tetonraptorcenter.org/event/raptors-of-wyoming-habitats-and-homes-2/2026-10-23/
LOCATION:Teton Raptor Center\, 5450 WY-Highway 22\, Wilson\, WY\, 83014
ATTACH;FMTTYPE=image/jpeg:https://tetonraptorcenter.org/wp-content/uploads/2025/03/Hardman-Summer-2018-Credit-Bob-Bailey_ADAPTATIONS-2-1.jpg
END:VEVENT
BEGIN:VEVENT
DTSTART;TZID=America/Denver:20261030T110000
DTEND;TZID=America/Denver:20261030T120000
DTSTAMP:20260421T225653
CREATED:20251107T204028Z
LAST-MODIFIED:20260417T223703Z
UID:10001405-1793358000-1793361600@tetonraptorcenter.org
SUMMARY:Raptors of Wyoming: Habitats and Homes
DESCRIPTION:Join us for an inspiring 1- hour program featuring three to four live raptor ambassadors. Together\, we’ll journey through Wyoming’s diverse habitats and uncover the stories of nearly 30 raptor species\, offering a deeper appreciation for the landscapes they call home. \nJune 5\, 2026 through October 30\, 2026:\n\nFridays at 11:00 am\n\nBook Now
URL:https://tetonraptorcenter.org/event/raptors-of-wyoming-habitats-and-homes-2/2026-10-30/
LOCATION:Teton Raptor Center\, 5450 WY-Highway 22\, Wilson\, WY\, 83014
ATTACH;FMTTYPE=image/jpeg:https://tetonraptorcenter.org/wp-content/uploads/2025/03/Hardman-Summer-2018-Credit-Bob-Bailey_ADAPTATIONS-2-1.jpg
END:VEVENT
END:VCALENDAR