BEGIN:VCALENDAR
VERSION:2.0
PRODID:-//Teton Raptor Center - ECPv6.15.17.1//NONSGML v1.0//EN
CALSCALE:GREGORIAN
METHOD:PUBLISH
X-WR-CALNAME:Teton Raptor Center
X-ORIGINAL-URL:https://tetonraptorcenter.org
X-WR-CALDESC:Events for Teton Raptor Center
REFRESH-INTERVAL;VALUE=DURATION:PT1H
X-Robots-Tag:noindex
X-PUBLISHED-TTL:PT1H
BEGIN:VTIMEZONE
TZID:America/Denver
BEGIN:DAYLIGHT
TZOFFSETFROM:-0700
TZOFFSETTO:-0600
TZNAME:MDT
DTSTART:20250309T090000
END:DAYLIGHT
BEGIN:STANDARD
TZOFFSETFROM:-0600
TZOFFSETTO:-0700
TZNAME:MST
DTSTART:20251102T080000
END:STANDARD
BEGIN:DAYLIGHT
TZOFFSETFROM:-0700
TZOFFSETTO:-0600
TZNAME:MDT
DTSTART:20260308T090000
END:DAYLIGHT
BEGIN:STANDARD
TZOFFSETFROM:-0600
TZOFFSETTO:-0700
TZNAME:MST
DTSTART:20261101T080000
END:STANDARD
BEGIN:DAYLIGHT
TZOFFSETFROM:-0700
TZOFFSETTO:-0600
TZNAME:MDT
DTSTART:20270314T090000
END:DAYLIGHT
BEGIN:STANDARD
TZOFFSETFROM:-0600
TZOFFSETTO:-0700
TZNAME:MST
DTSTART:20271107T080000
END:STANDARD
END:VTIMEZONE
BEGIN:VEVENT
DTSTART;TZID=America/Denver:20260618T113000
DTEND;TZID=America/Denver:20260618T133000
DTSTAMP:20260421T225606
CREATED:20251107T205920Z
LAST-MODIFIED:20251107T205920Z
UID:10001441-1781782200-1781789400@tetonraptorcenter.org
SUMMARY:Flights and Feathers at the JH Airport
DESCRIPTION:Join us for Flights and Feathers at the Jackson Hole Airport! We will be set up in arrivals and open to the public. The program takes place from 11:30 a.m. to 1:30 p.m. every Thursday starting June 18\, 2026 and runs through September 17\, 2026. Birds will be put away promptly at 1:30 p.m. No reservations required.
URL:https://tetonraptorcenter.org/event/flights-and-feathers-at-the-jh-airport-5/2026-06-18/
LOCATION:Jackson Hole Airport\, 1250 East Airport Road\, Jackson\, WY\, 83001\, United States
ATTACH;FMTTYPE=image/jpeg:https://tetonraptorcenter.org/wp-content/uploads/2024/02/IMG_6038-scaled.jpg
END:VEVENT
BEGIN:VEVENT
DTSTART;TZID=America/Denver:20260625T113000
DTEND;TZID=America/Denver:20260625T133000
DTSTAMP:20260421T225606
CREATED:20251107T205920Z
LAST-MODIFIED:20251107T205920Z
UID:10001442-1782387000-1782394200@tetonraptorcenter.org
SUMMARY:Flights and Feathers at the JH Airport
DESCRIPTION:Join us for Flights and Feathers at the Jackson Hole Airport! We will be set up in arrivals and open to the public. The program takes place from 11:30 a.m. to 1:30 p.m. every Thursday starting June 18\, 2026 and runs through September 17\, 2026. Birds will be put away promptly at 1:30 p.m. No reservations required.
URL:https://tetonraptorcenter.org/event/flights-and-feathers-at-the-jh-airport-5/2026-06-25/
LOCATION:Jackson Hole Airport\, 1250 East Airport Road\, Jackson\, WY\, 83001\, United States
ATTACH;FMTTYPE=image/jpeg:https://tetonraptorcenter.org/wp-content/uploads/2024/02/IMG_6038-scaled.jpg
END:VEVENT
BEGIN:VEVENT
DTSTART;TZID=America/Denver:20260702T113000
DTEND;TZID=America/Denver:20260702T133000
DTSTAMP:20260421T225606
CREATED:20251107T205920Z
LAST-MODIFIED:20251107T205920Z
UID:10001443-1782991800-1782999000@tetonraptorcenter.org
SUMMARY:Flights and Feathers at the JH Airport
DESCRIPTION:Join us for Flights and Feathers at the Jackson Hole Airport! We will be set up in arrivals and open to the public. The program takes place from 11:30 a.m. to 1:30 p.m. every Thursday starting June 18\, 2026 and runs through September 17\, 2026. Birds will be put away promptly at 1:30 p.m. No reservations required.
URL:https://tetonraptorcenter.org/event/flights-and-feathers-at-the-jh-airport-5/2026-07-02/
LOCATION:Jackson Hole Airport\, 1250 East Airport Road\, Jackson\, WY\, 83001\, United States
ATTACH;FMTTYPE=image/jpeg:https://tetonraptorcenter.org/wp-content/uploads/2024/02/IMG_6038-scaled.jpg
END:VEVENT
BEGIN:VEVENT
DTSTART;TZID=America/Denver:20260709T113000
DTEND;TZID=America/Denver:20260709T133000
DTSTAMP:20260421T225606
CREATED:20251107T205920Z
LAST-MODIFIED:20251107T205920Z
UID:10001444-1783596600-1783603800@tetonraptorcenter.org
SUMMARY:Flights and Feathers at the JH Airport
DESCRIPTION:Join us for Flights and Feathers at the Jackson Hole Airport! We will be set up in arrivals and open to the public. The program takes place from 11:30 a.m. to 1:30 p.m. every Thursday starting June 18\, 2026 and runs through September 17\, 2026. Birds will be put away promptly at 1:30 p.m. No reservations required.
URL:https://tetonraptorcenter.org/event/flights-and-feathers-at-the-jh-airport-5/2026-07-09/
LOCATION:Jackson Hole Airport\, 1250 East Airport Road\, Jackson\, WY\, 83001\, United States
ATTACH;FMTTYPE=image/jpeg:https://tetonraptorcenter.org/wp-content/uploads/2024/02/IMG_6038-scaled.jpg
END:VEVENT
BEGIN:VEVENT
DTSTART;TZID=America/Denver:20260716T113000
DTEND;TZID=America/Denver:20260716T133000
DTSTAMP:20260421T225606
CREATED:20251107T205920Z
LAST-MODIFIED:20251107T205920Z
UID:10001445-1784201400-1784208600@tetonraptorcenter.org
SUMMARY:Flights and Feathers at the JH Airport
DESCRIPTION:Join us for Flights and Feathers at the Jackson Hole Airport! We will be set up in arrivals and open to the public. The program takes place from 11:30 a.m. to 1:30 p.m. every Thursday starting June 18\, 2026 and runs through September 17\, 2026. Birds will be put away promptly at 1:30 p.m. No reservations required.
URL:https://tetonraptorcenter.org/event/flights-and-feathers-at-the-jh-airport-5/2026-07-16/
LOCATION:Jackson Hole Airport\, 1250 East Airport Road\, Jackson\, WY\, 83001\, United States
ATTACH;FMTTYPE=image/jpeg:https://tetonraptorcenter.org/wp-content/uploads/2024/02/IMG_6038-scaled.jpg
END:VEVENT
BEGIN:VEVENT
DTSTART;TZID=America/Denver:20260723T113000
DTEND;TZID=America/Denver:20260723T133000
DTSTAMP:20260421T225606
CREATED:20251107T205920Z
LAST-MODIFIED:20251107T205920Z
UID:10001446-1784806200-1784813400@tetonraptorcenter.org
SUMMARY:Flights and Feathers at the JH Airport
DESCRIPTION:Join us for Flights and Feathers at the Jackson Hole Airport! We will be set up in arrivals and open to the public. The program takes place from 11:30 a.m. to 1:30 p.m. every Thursday starting June 18\, 2026 and runs through September 17\, 2026. Birds will be put away promptly at 1:30 p.m. No reservations required.
URL:https://tetonraptorcenter.org/event/flights-and-feathers-at-the-jh-airport-5/2026-07-23/
LOCATION:Jackson Hole Airport\, 1250 East Airport Road\, Jackson\, WY\, 83001\, United States
ATTACH;FMTTYPE=image/jpeg:https://tetonraptorcenter.org/wp-content/uploads/2024/02/IMG_6038-scaled.jpg
END:VEVENT
BEGIN:VEVENT
DTSTART;TZID=America/Denver:20260730T113000
DTEND;TZID=America/Denver:20260730T133000
DTSTAMP:20260421T225606
CREATED:20251107T205920Z
LAST-MODIFIED:20251107T205920Z
UID:10001447-1785411000-1785418200@tetonraptorcenter.org
SUMMARY:Flights and Feathers at the JH Airport
DESCRIPTION:Join us for Flights and Feathers at the Jackson Hole Airport! We will be set up in arrivals and open to the public. The program takes place from 11:30 a.m. to 1:30 p.m. every Thursday starting June 18\, 2026 and runs through September 17\, 2026. Birds will be put away promptly at 1:30 p.m. No reservations required.
URL:https://tetonraptorcenter.org/event/flights-and-feathers-at-the-jh-airport-5/2026-07-30/
LOCATION:Jackson Hole Airport\, 1250 East Airport Road\, Jackson\, WY\, 83001\, United States
ATTACH;FMTTYPE=image/jpeg:https://tetonraptorcenter.org/wp-content/uploads/2024/02/IMG_6038-scaled.jpg
END:VEVENT
BEGIN:VEVENT
DTSTART;TZID=America/Denver:20260806T113000
DTEND;TZID=America/Denver:20260806T133000
DTSTAMP:20260421T225606
CREATED:20251107T205920Z
LAST-MODIFIED:20251107T205920Z
UID:10001448-1786015800-1786023000@tetonraptorcenter.org
SUMMARY:Flights and Feathers at the JH Airport
DESCRIPTION:Join us for Flights and Feathers at the Jackson Hole Airport! We will be set up in arrivals and open to the public. The program takes place from 11:30 a.m. to 1:30 p.m. every Thursday starting June 18\, 2026 and runs through September 17\, 2026. Birds will be put away promptly at 1:30 p.m. No reservations required.
URL:https://tetonraptorcenter.org/event/flights-and-feathers-at-the-jh-airport-5/2026-08-06/
LOCATION:Jackson Hole Airport\, 1250 East Airport Road\, Jackson\, WY\, 83001\, United States
ATTACH;FMTTYPE=image/jpeg:https://tetonraptorcenter.org/wp-content/uploads/2024/02/IMG_6038-scaled.jpg
END:VEVENT
BEGIN:VEVENT
DTSTART;TZID=America/Denver:20260813T113000
DTEND;TZID=America/Denver:20260813T133000
DTSTAMP:20260421T225606
CREATED:20251107T205920Z
LAST-MODIFIED:20251107T205920Z
UID:10001449-1786620600-1786627800@tetonraptorcenter.org
SUMMARY:Flights and Feathers at the JH Airport
DESCRIPTION:Join us for Flights and Feathers at the Jackson Hole Airport! We will be set up in arrivals and open to the public. The program takes place from 11:30 a.m. to 1:30 p.m. every Thursday starting June 18\, 2026 and runs through September 17\, 2026. Birds will be put away promptly at 1:30 p.m. No reservations required.
URL:https://tetonraptorcenter.org/event/flights-and-feathers-at-the-jh-airport-5/2026-08-13/
LOCATION:Jackson Hole Airport\, 1250 East Airport Road\, Jackson\, WY\, 83001\, United States
ATTACH;FMTTYPE=image/jpeg:https://tetonraptorcenter.org/wp-content/uploads/2024/02/IMG_6038-scaled.jpg
END:VEVENT
BEGIN:VEVENT
DTSTART;TZID=America/Denver:20260820T113000
DTEND;TZID=America/Denver:20260820T133000
DTSTAMP:20260421T225606
CREATED:20251107T205920Z
LAST-MODIFIED:20251107T205920Z
UID:10001450-1787225400-1787232600@tetonraptorcenter.org
SUMMARY:Flights and Feathers at the JH Airport
DESCRIPTION:Join us for Flights and Feathers at the Jackson Hole Airport! We will be set up in arrivals and open to the public. The program takes place from 11:30 a.m. to 1:30 p.m. every Thursday starting June 18\, 2026 and runs through September 17\, 2026. Birds will be put away promptly at 1:30 p.m. No reservations required.
URL:https://tetonraptorcenter.org/event/flights-and-feathers-at-the-jh-airport-5/2026-08-20/
LOCATION:Jackson Hole Airport\, 1250 East Airport Road\, Jackson\, WY\, 83001\, United States
ATTACH;FMTTYPE=image/jpeg:https://tetonraptorcenter.org/wp-content/uploads/2024/02/IMG_6038-scaled.jpg
END:VEVENT
BEGIN:VEVENT
DTSTART;TZID=America/Denver:20260827T113000
DTEND;TZID=America/Denver:20260827T133000
DTSTAMP:20260421T225606
CREATED:20251107T205920Z
LAST-MODIFIED:20251107T205920Z
UID:10001451-1787830200-1787837400@tetonraptorcenter.org
SUMMARY:Flights and Feathers at the JH Airport
DESCRIPTION:Join us for Flights and Feathers at the Jackson Hole Airport! We will be set up in arrivals and open to the public. The program takes place from 11:30 a.m. to 1:30 p.m. every Thursday starting June 18\, 2026 and runs through September 17\, 2026. Birds will be put away promptly at 1:30 p.m. No reservations required.
URL:https://tetonraptorcenter.org/event/flights-and-feathers-at-the-jh-airport-5/2026-08-27/
LOCATION:Jackson Hole Airport\, 1250 East Airport Road\, Jackson\, WY\, 83001\, United States
ATTACH;FMTTYPE=image/jpeg:https://tetonraptorcenter.org/wp-content/uploads/2024/02/IMG_6038-scaled.jpg
END:VEVENT
BEGIN:VEVENT
DTSTART;TZID=America/Denver:20260903T113000
DTEND;TZID=America/Denver:20260903T133000
DTSTAMP:20260421T225606
CREATED:20251107T205920Z
LAST-MODIFIED:20251107T205920Z
UID:10001452-1788435000-1788442200@tetonraptorcenter.org
SUMMARY:Flights and Feathers at the JH Airport
DESCRIPTION:Join us for Flights and Feathers at the Jackson Hole Airport! We will be set up in arrivals and open to the public. The program takes place from 11:30 a.m. to 1:30 p.m. every Thursday starting June 18\, 2026 and runs through September 17\, 2026. Birds will be put away promptly at 1:30 p.m. No reservations required.
URL:https://tetonraptorcenter.org/event/flights-and-feathers-at-the-jh-airport-5/2026-09-03/
LOCATION:Jackson Hole Airport\, 1250 East Airport Road\, Jackson\, WY\, 83001\, United States
ATTACH;FMTTYPE=image/jpeg:https://tetonraptorcenter.org/wp-content/uploads/2024/02/IMG_6038-scaled.jpg
END:VEVENT
BEGIN:VEVENT
DTSTART;TZID=America/Denver:20260910T113000
DTEND;TZID=America/Denver:20260910T133000
DTSTAMP:20260421T225606
CREATED:20251107T205920Z
LAST-MODIFIED:20251107T205920Z
UID:10001453-1789039800-1789047000@tetonraptorcenter.org
SUMMARY:Flights and Feathers at the JH Airport
DESCRIPTION:Join us for Flights and Feathers at the Jackson Hole Airport! We will be set up in arrivals and open to the public. The program takes place from 11:30 a.m. to 1:30 p.m. every Thursday starting June 18\, 2026 and runs through September 17\, 2026. Birds will be put away promptly at 1:30 p.m. No reservations required.
URL:https://tetonraptorcenter.org/event/flights-and-feathers-at-the-jh-airport-5/2026-09-10/
LOCATION:Jackson Hole Airport\, 1250 East Airport Road\, Jackson\, WY\, 83001\, United States
ATTACH;FMTTYPE=image/jpeg:https://tetonraptorcenter.org/wp-content/uploads/2024/02/IMG_6038-scaled.jpg
END:VEVENT
BEGIN:VEVENT
DTSTART;TZID=America/Denver:20260917T113000
DTEND;TZID=America/Denver:20260917T133000
DTSTAMP:20260421T225606
CREATED:20251107T205920Z
LAST-MODIFIED:20251107T205920Z
UID:10001454-1789644600-1789651800@tetonraptorcenter.org
SUMMARY:Flights and Feathers at the JH Airport
DESCRIPTION:Join us for Flights and Feathers at the Jackson Hole Airport! We will be set up in arrivals and open to the public. The program takes place from 11:30 a.m. to 1:30 p.m. every Thursday starting June 18\, 2026 and runs through September 17\, 2026. Birds will be put away promptly at 1:30 p.m. No reservations required.
URL:https://tetonraptorcenter.org/event/flights-and-feathers-at-the-jh-airport-5/2026-09-17/
LOCATION:Jackson Hole Airport\, 1250 East Airport Road\, Jackson\, WY\, 83001\, United States
ATTACH;FMTTYPE=image/jpeg:https://tetonraptorcenter.org/wp-content/uploads/2024/02/IMG_6038-scaled.jpg
END:VEVENT
END:VCALENDAR